BEGIN:VCALENDAR
VERSION:2.0
PRODID:-//Mairie de Lauris - ECPv6.10.0//NONSGML v1.0//EN
CALSCALE:GREGORIAN
METHOD:PUBLISH
X-WR-CALNAME:Mairie de Lauris
X-ORIGINAL-URL:https://lauris.fr
X-WR-CALDESC:Évènements pour Mairie de Lauris
REFRESH-INTERVAL;VALUE=DURATION:PT1H
X-Robots-Tag:noindex
X-PUBLISHED-TTL:PT1H
BEGIN:VTIMEZONE
TZID:Europe/Paris
BEGIN:DAYLIGHT
TZOFFSETFROM:+0100
TZOFFSETTO:+0200
TZNAME:CEST
DTSTART:20260329T010000
END:DAYLIGHT
BEGIN:STANDARD
TZOFFSETFROM:+0200
TZOFFSETTO:+0100
TZNAME:CET
DTSTART:20261025T010000
END:STANDARD
END:VTIMEZONE
BEGIN:VEVENT
DTSTART;TZID=Europe/Paris:20260419T080000
DTEND;TZID=Europe/Paris:20260419T180000
DTSTAMP:20260421T180746
CREATED:20260312T161903Z
LAST-MODIFIED:20260312T161903Z
UID:6787-1776585600-1776621600@lauris.fr
SUMMARY:Vide-grenier du Vieux Village
DESCRIPTION:
URL:https://lauris.fr/evenement/vide-grenier-du-vieux-village/
LOCATION:Vieux Village
ATTACH;FMTTYPE=image/jpeg:https://lauris.fr/wp-content/uploads/2026/03/Affiche-evenement-scaled.jpg
END:VEVENT
BEGIN:VEVENT
DTSTART;TZID=Europe/Paris:20260415T203000
DTEND;TZID=Europe/Paris:20260415T230000
DTSTAMP:20260421T180746
CREATED:20260317T181608Z
LAST-MODIFIED:20260317T181608Z
UID:6816-1776285000-1776294000@lauris.fr
SUMMARY:Cinéma La Strada
DESCRIPTION:
URL:https://lauris.fr/evenement/cinema-la-strada-16/
LOCATION:FOYER RURAL\, rue de la mairie\, lauris\, 84360\, France
ATTACH;FMTTYPE=image/jpeg:https://lauris.fr/wp-content/uploads/2026/03/alter-e_page-0001.jpg
END:VEVENT
BEGIN:VEVENT
DTSTART;TZID=Europe/Paris:20260415T153000
DTEND;TZID=Europe/Paris:20260415T153000
DTSTAMP:20260421T180746
CREATED:20260317T181531Z
LAST-MODIFIED:20260317T181531Z
UID:6814-1776267000-1776267000@lauris.fr
SUMMARY:Cinéma La Strada
DESCRIPTION:
URL:https://lauris.fr/evenement/cinema-la-strada-15/
LOCATION:FOYER RURAL\, rue de la mairie\, lauris\, 84360\, France
ATTACH;FMTTYPE=image/jpeg:https://lauris.fr/wp-content/uploads/2026/03/jumpers_page-0001.jpg
END:VEVENT
BEGIN:VEVENT
DTSTART;TZID=Europe/Paris:20260413T080000
DTEND;TZID=Europe/Paris:20260413T200000
DTSTAMP:20260421T180746
CREATED:20260408T135202Z
LAST-MODIFIED:20260408T135206Z
UID:6963-1776067200-1776110400@lauris.fr
SUMMARY:Don du sang
DESCRIPTION:
URL:https://lauris.fr/evenement/don-du-sang-2/
LOCATION:FOYER RURAL\, rue de la mairie\, lauris\, 84360\, France
ATTACH;FMTTYPE=image/jpeg:https://lauris.fr/wp-content/uploads/2026/04/doc07495420260408134725_page-0001.jpg
END:VEVENT
BEGIN:VEVENT
DTSTART;TZID=Europe/Paris:20260411T080000
DTEND;TZID=Europe/Paris:20260411T170000
DTSTAMP:20260421T180746
CREATED:20260408T121641Z
LAST-MODIFIED:20260408T133944Z
UID:6957-1775894400-1775926800@lauris.fr
SUMMARY:Vente de composteurs à la déchetterie
DESCRIPTION:Télécharger le formulaire de mise à disposition ici
URL:https://lauris.fr/evenement/vente-de-composteurs-a-la-dechetterie/
ATTACH;FMTTYPE=image/png:https://lauris.fr/wp-content/uploads/2026/04/Insta.png
END:VEVENT
BEGIN:VEVENT
DTSTART;TZID=Europe/Paris:20260410T080000
DTEND;TZID=Europe/Paris:20260411T170000
DTSTAMP:20260421T180746
CREATED:20260401T100907Z
LAST-MODIFIED:20260408T081050Z
UID:6887-1775808000-1775926800@lauris.fr
SUMMARY:Théâtre en espace public
DESCRIPTION:Il manque quelqu’un à Lauris ! \nQui est l’absent(e) ? Écrit en quelques jours dans la commune de Lauris et en collaboration avec un groupe d’habitant·es\, ce spectacle trace les périmètres de nos absent·es. Une proposition délicate et immersive tissée avec les histoires des habitant·es du territoire\, par la compagnie Begat Theater qui\, mieux que personne\, sait faire entendre l’intime\, faire naître la parole dans l’espace public et proposer des expériences qui ne s’oublient pas.\nEn coréalisation avec Culture Lub – Festival Le Grand Ménage de Printemps (du 10 au 26 avril en Sud Luberon)\, Karin Holmström\, la compagnie Begat Theater et le service culturel de la Mairie de Lauris.
URL:https://lauris.fr/evenement/theatre-en-espace-public/
ATTACH;FMTTYPE=image/png:https://lauris.fr/wp-content/uploads/2026/04/absente.png
ORGANIZER;CN="Service Culture":MAILTO:culture@lauris.fr
END:VEVENT
BEGIN:VEVENT
DTSTART;TZID=Europe/Paris:20260408T203000
DTEND;TZID=Europe/Paris:20260408T230000
DTSTAMP:20260421T180746
CREATED:20260317T181442Z
LAST-MODIFIED:20260317T181442Z
UID:6812-1775680200-1775689200@lauris.fr
SUMMARY:Cinéma La Strada
DESCRIPTION:
URL:https://lauris.fr/evenement/cinema-la-strada-14/
LOCATION:FOYER RURAL\, rue de la mairie\, lauris\, 84360\, France
ATTACH;FMTTYPE=image/jpeg:https://lauris.fr/wp-content/uploads/2026/03/ce-quil-reste_page-0001.jpg
END:VEVENT
BEGIN:VEVENT
DTSTART;TZID=Europe/Paris:20260404T150000
DTEND;TZID=Europe/Paris:20260404T180000
DTSTAMP:20260421T180746
CREATED:20260319T123451Z
LAST-MODIFIED:20260319T123451Z
UID:6824-1775314800-1775325600@lauris.fr
SUMMARY:CARNAVAL
DESCRIPTION:
URL:https://lauris.fr/evenement/carnaval/
ATTACH;FMTTYPE=image/jpeg:https://lauris.fr/wp-content/uploads/2026/03/carnavl.jpg
END:VEVENT
BEGIN:VEVENT
DTSTART;TZID=Europe/Paris:20260401T203000
DTEND;TZID=Europe/Paris:20260401T230000
DTSTAMP:20260421T180746
CREATED:20260317T181352Z
LAST-MODIFIED:20260317T181352Z
UID:6800-1775075400-1775084400@lauris.fr
SUMMARY:Cinéma La Strada
DESCRIPTION:
URL:https://lauris.fr/evenement/cinema-la-strada-13/
LOCATION:FOYER RURAL\, rue de la mairie\, lauris\, 84360\, France
ATTACH;FMTTYPE=image/jpeg:https://lauris.fr/wp-content/uploads/2026/03/le-reve-a_page-0001.jpg
END:VEVENT
BEGIN:VEVENT
DTSTART;TZID=Europe/Paris:20260401T080000
DTEND;TZID=Europe/Paris:20260403T170000
DTSTAMP:20260421T180746
CREATED:20260330T091207Z
LAST-MODIFIED:20260330T091211Z
UID:6865-1775030400-1775235600@lauris.fr
SUMMARY:Fermeture exceptionnelle de la Poste
DESCRIPTION:
URL:https://lauris.fr/evenement/fermeture-exceptionnelle-de-la-poste/
ATTACH;FMTTYPE=image/jpeg:https://lauris.fr/wp-content/uploads/2026/03/base-fermeture-poste_page-0001.jpg
END:VEVENT
BEGIN:VEVENT
DTSTART;TZID=Europe/Paris:20260327T203000
DTEND;TZID=Europe/Paris:20260327T230000
DTSTAMP:20260421T180746
CREATED:20260227T082144Z
LAST-MODIFIED:20260227T082256Z
UID:6732-1774643400-1774652400@lauris.fr
SUMMARY:Concert
DESCRIPTION:
URL:https://lauris.fr/evenement/theatre-dimprovisation/
LOCATION:Espace Bloch\, Ss Sol du château
ATTACH;FMTTYPE=image/jpeg:https://lauris.fr/wp-content/uploads/2026/02/duo-en-solo-ok-scaled.jpg
ORGANIZER;CN="Service Culture":MAILTO:culture@lauris.fr
END:VEVENT
BEGIN:VEVENT
DTSTART;TZID=Europe/Paris:20260325T203000
DTEND;TZID=Europe/Paris:20260325T230000
DTSTAMP:20260421T180746
CREATED:20260323T152554Z
LAST-MODIFIED:20260323T152554Z
UID:6834-1774470600-1774479600@lauris.fr
SUMMARY:Cinéma La Strada
DESCRIPTION:
URL:https://lauris.fr/evenement/cinema-la-strada-20/
LOCATION:FOYER RURAL\, rue de la mairie\, lauris\, 84360\, France
ATTACH;FMTTYPE=image/jpeg:https://lauris.fr/wp-content/uploads/2026/03/base-la-strada_page-0001-6.jpg
END:VEVENT
BEGIN:VEVENT
DTSTART;TZID=Europe/Paris:20260322T100000
DTEND;TZID=Europe/Paris:20260325T120000
DTSTAMP:20260421T180746
CREATED:20260309T130547Z
LAST-MODIFIED:20260309T130547Z
UID:6768-1774173600-1774440000@lauris.fr
SUMMARY:Festival "Forêts en scène"
DESCRIPTION:
URL:https://lauris.fr/evenement/festival-forets-en-scene/
LOCATION:La Font e l’Orme MERINDOL\, MERINDOL
ATTACH;FMTTYPE=image/jpeg:https://lauris.fr/wp-content/uploads/2026/03/Affiche_JIF26-DT_MMed-Allemand_leger_page-0001.jpg
END:VEVENT
BEGIN:VEVENT
DTSTART;TZID=Europe/Paris:20260318T203000
DTEND;TZID=Europe/Paris:20260318T230000
DTSTAMP:20260421T180746
CREATED:20260316T074224Z
LAST-MODIFIED:20260316T074244Z
UID:6796-1773865800-1773874800@lauris.fr
SUMMARY:Cinéma La Strada
DESCRIPTION:
URL:https://lauris.fr/evenement/cinema-la-strada-12/
LOCATION:FOYER RURAL\, rue de la mairie\, lauris\, 84360\, France
ATTACH;FMTTYPE=image/jpeg:https://lauris.fr/wp-content/uploads/2026/03/base-la-strada_page-0001-5.jpg
END:VEVENT
BEGIN:VEVENT
DTSTART;TZID=Europe/Paris:20260311T203000
DTEND;TZID=Europe/Paris:20260311T230000
DTSTAMP:20260421T180746
CREATED:20260208T080014Z
LAST-MODIFIED:20260310T163323Z
UID:6694-1773261000-1773270000@lauris.fr
SUMMARY:Cinéma La Strada
DESCRIPTION:
URL:https://lauris.fr/evenement/cinema-la-strada-11/
LOCATION:FOYER RURAL\, rue de la mairie\, lauris\, 84360\, France
ATTACH;FMTTYPE=image/jpeg:https://lauris.fr/wp-content/uploads/2026/02/base-la-strada_page-0001-4.jpg
END:VEVENT
BEGIN:VEVENT
DTSTART;TZID=Europe/Paris:20260307T080000
DTEND;TZID=Europe/Paris:20260308T170000
DTSTAMP:20260421T180746
CREATED:20260115T162517Z
LAST-MODIFIED:20260115T162521Z
UID:6615-1772870400-1772989200@lauris.fr
SUMMARY:Salon de l'étudiant
DESCRIPTION:
URL:https://lauris.fr/evenement/salon-de-letudiant-2/
ATTACH;FMTTYPE=image/jpeg:https://lauris.fr/wp-content/uploads/2026/01/doc07206520260115144039_page-0001.jpg
END:VEVENT
BEGIN:VEVENT
DTSTART;TZID=Europe/Paris:20260306T200000
DTEND;TZID=Europe/Paris:20260306T223000
DTSTAMP:20260421T180746
CREATED:20260227T082540Z
LAST-MODIFIED:20260227T082545Z
UID:6739-1772827200-1772836200@lauris.fr
SUMMARY:Théâtre d'improvisation
DESCRIPTION:
URL:https://lauris.fr/evenement/theatre-dimprovisation-2/
LOCATION:Espace Bloch\, Ss Sol du château
ATTACH;FMTTYPE=image/jpeg:https://lauris.fr/wp-content/uploads/2026/02/limax-bon-.jpg
ORGANIZER;CN="Service Culture":MAILTO:culture@lauris.fr
END:VEVENT
BEGIN:VEVENT
DTSTART;TZID=Europe/Paris:20260227T080000
DTEND;TZID=Europe/Paris:20260310T170000
DTSTAMP:20260421T180746
CREATED:20260227T082725Z
LAST-MODIFIED:20260227T090526Z
UID:6741-1772179200-1773162000@lauris.fr
SUMMARY:Ateliers d'écriture théâtrale
DESCRIPTION:
URL:https://lauris.fr/evenement/appel-a-comedien-nes-amateurs-pour-ateliers-theatre/
ATTACH;FMTTYPE=image/jpeg:https://lauris.fr/wp-content/uploads/2026/02/unnamed1-1.jpg
END:VEVENT
BEGIN:VEVENT
DTSTART;TZID=Europe/Paris:20260225T203000
DTEND;TZID=Europe/Paris:20260225T233000
DTSTAMP:20260421T180746
CREATED:20260203T082428Z
LAST-MODIFIED:20260224T071813Z
UID:6689-1772051400-1772062200@lauris.fr
SUMMARY:Cinema La Strada
DESCRIPTION:
URL:https://lauris.fr/evenement/cinema-la-strada-10/
LOCATION:FOYER RURAL\, rue de la mairie\, lauris\, 84360\, France
ATTACH;FMTTYPE=image/jpeg:https://lauris.fr/wp-content/uploads/2026/02/a-pied_page-0001.jpg
END:VEVENT
BEGIN:VEVENT
DTSTART;TZID=Europe/Paris:20260213T190000
DTEND;TZID=Europe/Paris:20260228T210000
DTSTAMP:20260421T180746
CREATED:20260129T075532Z
LAST-MODIFIED:20260129T075639Z
UID:6671-1771009200-1772312400@lauris.fr
SUMMARY:Film / débat
DESCRIPTION:
URL:https://lauris.fr/evenement/film-debat/
LOCATION:Espace Bloch\, Ss Sol du château
ATTACH;FMTTYPE=image/jpeg:https://lauris.fr/wp-content/uploads/2026/01/LAU-projection-debat_page-0001.jpg
END:VEVENT
BEGIN:VEVENT
DTSTART;TZID=Europe/Paris:20260213T150000
DTEND;TZID=Europe/Paris:20260213T193000
DTSTAMP:20260421T180746
CREATED:20260129T122338Z
LAST-MODIFIED:20260129T122338Z
UID:6673-1770994800-1771011000@lauris.fr
SUMMARY:don du sang
DESCRIPTION:
URL:https://lauris.fr/evenement/don-du-sang/
LOCATION:FOYER RURAL\, rue de la mairie\, lauris\, 84360\, France
ATTACH;FMTTYPE=image/jpeg:https://lauris.fr/wp-content/uploads/2026/01/affiche_161953_LAURIS_CAMPAGNE2026_ADSB_A4P_20260113111929_page-0001.jpg
END:VEVENT
BEGIN:VEVENT
DTSTART;TZID=Europe/Paris:20260207T203000
DTEND;TZID=Europe/Paris:20260207T220000
DTSTAMP:20260421T180746
CREATED:20260117T091054Z
LAST-MODIFIED:20260117T091054Z
UID:6633-1770496200-1770501600@lauris.fr
SUMMARY:Théâtre
DESCRIPTION:
URL:https://lauris.fr/evenement/theatre/
LOCATION:Espace Bloch\, Ss Sol du château
ATTACH;FMTTYPE=image/jpeg:https://lauris.fr/wp-content/uploads/2026/01/LA-CROUTE-scaled.jpg
ORGANIZER;CN="Service Culture":MAILTO:culture@lauris.fr
END:VEVENT
BEGIN:VEVENT
DTSTART;TZID=Europe/Paris:20260207T083000
DTEND;TZID=Europe/Paris:20260207T170000
DTSTAMP:20260421T180746
CREATED:20260108T081031Z
LAST-MODIFIED:20260108T081205Z
UID:6592-1770453000-1770483600@lauris.fr
SUMMARY:33eme journée de nettoyage des rivières
DESCRIPTION:
URL:https://lauris.fr/evenement/33eme-journee-du-nettoyage-des-rivieres/
ATTACH;FMTTYPE=image/jpeg:https://lauris.fr/wp-content/uploads/2026/01/doc07171820260107163000_page-0001.jpg
END:VEVENT
BEGIN:VEVENT
DTSTART;TZID=Europe/Paris:20260205T184500
DTEND;TZID=Europe/Paris:20260205T230000
DTSTAMP:20260421T180747
CREATED:20260117T091359Z
LAST-MODIFIED:20260117T091403Z
UID:6636-1770317100-1770332400@lauris.fr
SUMMARY:Sortie minibus de la Culture
DESCRIPTION:
URL:https://lauris.fr/evenement/sortie-minibus-de-la-culture-2/
ATTACH;FMTTYPE=image/jpeg:https://lauris.fr/wp-content/uploads/2026/01/BOITEL-scaled.jpg
ORGANIZER;CN="Service Culture":MAILTO:culture@lauris.fr
END:VEVENT
BEGIN:VEVENT
DTSTART;TZID=Europe/Paris:20260131T210000
DTEND;TZID=Europe/Paris:20260131T233000
DTSTAMP:20260421T180747
CREATED:20260117T090808Z
LAST-MODIFIED:20260117T090814Z
UID:6629-1769893200-1769902200@lauris.fr
SUMMARY:Concert / bal
DESCRIPTION:
URL:https://lauris.fr/evenement/concert-bal/
LOCATION:FOYER RURAL\, rue de la mairie\, lauris\, 84360\, France
ATTACH;FMTTYPE=image/jpeg:https://lauris.fr/wp-content/uploads/2026/01/FETE-DE-LA-CANNE-scaled.jpg
ORGANIZER;CN="Service Culture":MAILTO:culture@lauris.fr
END:VEVENT
BEGIN:VEVENT
DTSTART;TZID=Europe/Paris:20260129T190000
DTEND;TZID=Europe/Paris:20260130T213000
DTSTAMP:20260421T180747
CREATED:20260117T090929Z
LAST-MODIFIED:20260117T090929Z
UID:6631-1769713200-1769808600@lauris.fr
SUMMARY:spectacle Jeune public
DESCRIPTION:
URL:https://lauris.fr/evenement/spectacle-jeune-public/
ATTACH;FMTTYPE=image/jpeg:https://lauris.fr/wp-content/uploads/2026/01/AFFICHE-ZELI-scaled.jpg
END:VEVENT
BEGIN:VEVENT
DTSTART;TZID=Europe/Paris:20260129T080000
DTEND;TZID=Europe/Paris:20260228T170000
DTSTAMP:20260421T180747
CREATED:20260129T075419Z
LAST-MODIFIED:20260129T075419Z
UID:6667-1769673600-1772298000@lauris.fr
SUMMARY:expo photo à la médiathèque
DESCRIPTION:
URL:https://lauris.fr/evenement/expo-photo-a-la-mediatheque/
LOCATION:Médiathèque
ATTACH;FMTTYPE=image/jpeg:https://lauris.fr/wp-content/uploads/2026/01/LAU-expo-photo-Entre-villes-et-campagnes_page-0001.jpg
END:VEVENT
BEGIN:VEVENT
DTSTART;TZID=Europe/Paris:20260128T153000
DTEND;TZID=Europe/Paris:20260128T180000
DTSTAMP:20260421T180747
CREATED:20251130T081907Z
LAST-MODIFIED:20260215T091220Z
UID:6481-1769614200-1769623200@lauris.fr
SUMMARY:Cinéma La Strada
DESCRIPTION:
URL:https://lauris.fr/evenement/cinema-la-strada-8/
LOCATION:FOYER RURAL\, rue de la mairie\, lauris\, 84360\, France
ATTACH;FMTTYPE=image/jpeg:https://lauris.fr/wp-content/uploads/2026/02/base-la-strada-enfants_page-0001.jpg
END:VEVENT
BEGIN:VEVENT
DTSTART;TZID=Europe/Paris:20260123T180000
DTEND;TZID=Europe/Paris:20260123T210000
DTSTAMP:20260421T180747
CREATED:20251221T083942Z
LAST-MODIFIED:20251221T084050Z
UID:6564-1769191200-1769202000@lauris.fr
SUMMARY:Nuit de la lecture
DESCRIPTION:
URL:https://lauris.fr/evenement/nuit-de-la-lecture/
LOCATION:Médiathèque
ATTACH;FMTTYPE=image/jpeg:https://lauris.fr/wp-content/uploads/2025/12/LAU-nuit-de-la-lecture_page-0001.jpg
END:VEVENT
BEGIN:VEVENT
DTSTART;TZID=Europe/Paris:20260121T183000
DTEND;TZID=Europe/Paris:20260121T233000
DTSTAMP:20260421T180747
CREATED:20260117T090651Z
LAST-MODIFIED:20260117T090658Z
UID:6622-1769020200-1769038200@lauris.fr
SUMMARY:Sortie Minibus de la culture
DESCRIPTION:
URL:https://lauris.fr/evenement/sortie-minibus-de-la-culture/
ATTACH;FMTTYPE=image/jpeg:https://lauris.fr/wp-content/uploads/2026/01/AFFICHE-MINIBUS-VALENTINA-scaled.jpg
ORGANIZER;CN="Service Culture":MAILTO:culture@lauris.fr
END:VEVENT
END:VCALENDAR