BEGIN:VCALENDAR
VERSION:2.0
PRODID:-//Mairie de Lauris - ECPv6.10.0//NONSGML v1.0//EN
CALSCALE:GREGORIAN
METHOD:PUBLISH
X-ORIGINAL-URL:https://lauris.fr
X-WR-CALDESC:Évènements pour Mairie de Lauris
REFRESH-INTERVAL;VALUE=DURATION:PT1H
X-Robots-Tag:noindex
X-PUBLISHED-TTL:PT1H
BEGIN:VTIMEZONE
TZID:Europe/Paris
BEGIN:DAYLIGHT
TZOFFSETFROM:+0100
TZOFFSETTO:+0200
TZNAME:CEST
DTSTART:20260329T010000
END:DAYLIGHT
BEGIN:STANDARD
TZOFFSETFROM:+0200
TZOFFSETTO:+0100
TZNAME:CET
DTSTART:20261025T010000
END:STANDARD
END:VTIMEZONE
BEGIN:VEVENT
DTSTART;TZID=Europe/Paris:20260227T080000
DTEND;TZID=Europe/Paris:20260310T170000
DTSTAMP:20260422T002938
CREATED:20260227T082725Z
LAST-MODIFIED:20260227T090526Z
UID:6741-1772179200-1773162000@lauris.fr
SUMMARY:Ateliers d'écriture théâtrale
DESCRIPTION:
URL:https://lauris.fr/evenement/appel-a-comedien-nes-amateurs-pour-ateliers-theatre/
ATTACH;FMTTYPE=image/jpeg:https://lauris.fr/wp-content/uploads/2026/02/unnamed1-1.jpg
END:VEVENT
BEGIN:VEVENT
DTSTART;TZID=Europe/Paris:20260307T080000
DTEND;TZID=Europe/Paris:20260308T170000
DTSTAMP:20260422T002938
CREATED:20260115T162517Z
LAST-MODIFIED:20260115T162521Z
UID:6615-1772870400-1772989200@lauris.fr
SUMMARY:Salon de l'étudiant
DESCRIPTION:
URL:https://lauris.fr/evenement/salon-de-letudiant-2/
ATTACH;FMTTYPE=image/jpeg:https://lauris.fr/wp-content/uploads/2026/01/doc07206520260115144039_page-0001.jpg
END:VEVENT
END:VCALENDAR