BEGIN:VCALENDAR
VERSION:2.0
PRODID:-//Mairie de Lauris - ECPv6.10.0//NONSGML v1.0//EN
CALSCALE:GREGORIAN
METHOD:PUBLISH
X-WR-CALNAME:Mairie de Lauris
X-ORIGINAL-URL:https://lauris.fr
X-WR-CALDESC:Évènements pour Mairie de Lauris
REFRESH-INTERVAL;VALUE=DURATION:PT1H
X-Robots-Tag:noindex
X-PUBLISHED-TTL:PT1H
BEGIN:VTIMEZONE
TZID:Europe/Paris
BEGIN:DAYLIGHT
TZOFFSETFROM:+0100
TZOFFSETTO:+0200
TZNAME:CEST
DTSTART:20260329T010000
END:DAYLIGHT
BEGIN:STANDARD
TZOFFSETFROM:+0200
TZOFFSETTO:+0100
TZNAME:CET
DTSTART:20261025T010000
END:STANDARD
END:VTIMEZONE
BEGIN:VEVENT
DTSTART;TZID=Europe/Paris:20260121T183000
DTEND;TZID=Europe/Paris:20260121T233000
DTSTAMP:20260422T041027
CREATED:20260117T090651Z
LAST-MODIFIED:20260117T090658Z
UID:6622-1769020200-1769038200@lauris.fr
SUMMARY:Sortie Minibus de la culture
DESCRIPTION:
URL:https://lauris.fr/evenement/sortie-minibus-de-la-culture/
ATTACH;FMTTYPE=image/jpeg:https://lauris.fr/wp-content/uploads/2026/01/AFFICHE-MINIBUS-VALENTINA-scaled.jpg
ORGANIZER;CN="Service Culture":MAILTO:culture@lauris.fr
END:VEVENT
END:VCALENDAR