BEGIN:VCALENDAR
VERSION:2.0
PRODID:-//Mairie de Lauris - ECPv6.10.0//NONSGML v1.0//EN
CALSCALE:GREGORIAN
METHOD:PUBLISH
X-WR-CALNAME:Mairie de Lauris
X-ORIGINAL-URL:https://lauris.fr
X-WR-CALDESC:Évènements pour Mairie de Lauris
REFRESH-INTERVAL;VALUE=DURATION:PT1H
X-Robots-Tag:noindex
X-PUBLISHED-TTL:PT1H
BEGIN:VTIMEZONE
TZID:Europe/Paris
BEGIN:DAYLIGHT
TZOFFSETFROM:+0100
TZOFFSETTO:+0200
TZNAME:CEST
DTSTART:20250330T010000
END:DAYLIGHT
BEGIN:STANDARD
TZOFFSETFROM:+0200
TZOFFSETTO:+0100
TZNAME:CET
DTSTART:20251026T010000
END:STANDARD
END:VTIMEZONE
BEGIN:VEVENT
DTSTART;TZID=Europe/Paris:20251231T100000
DTEND;TZID=Europe/Paris:20251231T233000
DTSTAMP:20260422T041149
CREATED:20251127T210945Z
LAST-MODIFIED:20251127T210945Z
UID:6469-1767175200-1767223800@lauris.fr
SUMMARY:Réveillon du Nouvel An
DESCRIPTION:
URL:https://lauris.fr/evenement/reveillon-du-nouvel-an/
LOCATION:FOYER RURAL\, rue de la mairie\, lauris\, 84360\, France
ATTACH;FMTTYPE=image/jpeg:https://lauris.fr/wp-content/uploads/2025/11/Affiche-4_page-0001.jpg
END:VEVENT
END:VCALENDAR